BEGIN:VCALENDAR
VERSION:2.0
PRODID:-//ChamberMaster//Event Calendar 2.0//EN
METHOD:PUBLISH
X-PUBLISHED-TTL:P3D
REFRESH-INTERVAL:P3D
CALSCALE:GREGORIAN
BEGIN:VEVENT
DTSTART:20270227T193000Z
DTEND:20270227T230000Z
X-MICROSOFT-CDO-ALLDAYEVENT:FALSE
SUMMARY:Bainbridge HS Future Fair
DESCRIPTION:Bainbridge High School appreciates your annual visit to our campus and would like to extend an invitation for you to join us again this February for **Beyond BHS**\, an all-school college and post-high school options fair. This event will feature a diverse range of vocational\, career\, and higher education institutions\, showcasing the various pathways available to our students after graduation.\n\n\n\nThe fair will take place during both school lunches and the last two periods of the day. While priority will be given to upperclassmen\, all students will have the opportunity to attend and explore the options presented.\n\n\n\nYour participation would greatly enrich the experience for our students\, helping them gain insights into potential career paths and educational opportunities. We would love to see you there and believe your presence would make a significant impact.\n\n\n\nIf you are interested in participating\, please reach out to Robert to confirm your involvement and discuss how you can contribute to this important event.\n\n\n\nThank you for considering this opportunity to support our students' future endeavors. We look forward to the possibility of collaborating with you to make Beyond BHS a success!
X-ALT-DESC;FMTTYPE=text/html:<span style="color: rgb(34\, 34\, 34)\; font-family: Arial\, Helvetica\, sans-serif\; font-size: small\; background-color: rgb(255\, 255\, 255)\;">Bainbridge High School appreciates your annual visit to our campus and would like to extend an invitation for you to join us again this February for **Beyond BHS**\, an all-school college and post-high school options fair. This event will feature a diverse range of vocational\, career\, and higher education institutions\, showcasing the various pathways available to our students after graduation.</span><br style="color: rgb(34\, 34\, 34)\; font-family: Arial\, Helvetica\, sans-serif\; font-size: small\; background-color: rgb(255\, 255\, 255)\;" />\n<br style="color: rgb(34\, 34\, 34)\; font-family: Arial\, Helvetica\, sans-serif\; font-size: small\; background-color: rgb(255\, 255\, 255)\;" />\n<span style="color: rgb(34\, 34\, 34)\; font-family: Arial\, Helvetica\, sans-serif\; font-size: small\; background-color: rgb(255\, 255\, 255)\;">The fair will take place during both school lunches and the last two periods of the day. While priority will be given to upperclassmen\, all students will have the opportunity to attend and explore the options presented.</span><br style="color: rgb(34\, 34\, 34)\; font-family: Arial\, Helvetica\, sans-serif\; font-size: small\; background-color: rgb(255\, 255\, 255)\;" />\n<br style="color: rgb(34\, 34\, 34)\; font-family: Arial\, Helvetica\, sans-serif\; font-size: small\; background-color: rgb(255\, 255\, 255)\;" />\n<span style="color: rgb(34\, 34\, 34)\; font-family: Arial\, Helvetica\, sans-serif\; font-size: small\; background-color: rgb(255\, 255\, 255)\;">Your participation would greatly enrich the experience for our students\, helping them gain insights into potential career paths and educational opportunities. We would love to see you there and believe your presence would make a significant impact.</span><br style="color: rgb(34\, 34\, 34)\; font-family: Arial\, Helvetica\, sans-serif\; font-size: small\; background-color: rgb(255\, 255\, 255)\;" />\n<br style="color: rgb(34\, 34\, 34)\; font-family: Arial\, Helvetica\, sans-serif\; font-size: small\; background-color: rgb(255\, 255\, 255)\;" />\n<span style="color: rgb(34\, 34\, 34)\; font-family: Arial\, Helvetica\, sans-serif\; font-size: small\; background-color: rgb(255\, 255\, 255)\;">If you are interested in participating\, please reach out to Robert to confirm your involvement and discuss how you can contribute to this important event.</span><br style="color: rgb(34\, 34\, 34)\; font-family: Arial\, Helvetica\, sans-serif\; font-size: small\; background-color: rgb(255\, 255\, 255)\;" />\n<br style="color: rgb(34\, 34\, 34)\; font-family: Arial\, Helvetica\, sans-serif\; font-size: small\; background-color: rgb(255\, 255\, 255)\;" />\n<span style="color: rgb(34\, 34\, 34)\; font-family: Arial\, Helvetica\, sans-serif\; font-size: small\; background-color: rgb(255\, 255\, 255)\;">Thank you for considering this opportunity to support our students&#39\; future endeavors. We look forward to the possibility of collaborating with you to make Beyond BHS a success!</span><br style="color: rgb(34\, 34\, 34)\; font-family: Arial\, Helvetica\, sans-serif\; font-size: small\; background-color: rgb(255\, 255\, 255)\;" />\n&nbsp\;
LOCATION:Bainbridge High School\, Paski Gym 9330 High School Road Bainbridge Island\, WA 98110
UID:e.9183.5262
SEQUENCE:3
DTSTAMP:20260420T173709Z
URL:https://members.nwautocare.org/events/details/bainbridge-hs-future-fair-02-27-2027-5262
END:VEVENT

END:VCALENDAR
