BEGIN:VCALENDAR
VERSION:2.0
PRODID:-//ChamberMaster//Event Calendar 2.0//EN
METHOD:PUBLISH
X-PUBLISHED-TTL:P3D
REFRESH-INTERVAL:P3D
CALSCALE:GREGORIAN
BEGIN:VEVENT
DTSTART:20260513T190000Z
DTEND:20260513T200000Z
X-MICROSOFT-CDO-ALLDAYEVENT:FALSE
SUMMARY:Lunch & Learn - NAPA Xcellerator program\,Technology Is Changing!
DESCRIPTION:Title:\n\nTechnology Is Changing How We Access Information and How Technicians Are Trained See It for Yourself\n\nDescription:\n\nIn this upcoming session\, we're diving into a different approach one that's changing how shops support their lead technicians\, while at the same time training and developing the next generation of technicians.\n\nWe'll be taking a look at the NAPA Xccelerator program\, a new platform designed to streamline the repair process by giving technicians the repair information they need without leaving the vehicle. It also takes what traditionally requires years of apprenticeship and compresses it into weeks using immersive training and real-time support.\n\nSneak Preview   Watch Before You Attend:\n\nhttps://www.youtube.com/watch?v=4reSwYbFwBo\n\nYou'll see how tools like AI-assisted smart glasses and XR (extended reality) training allow technicians to get step-by-step guidance during repairs\, access torque specs and procedures instantly\, and continue working without leaving the vehicle or breaking their flow.\n\nYou already know the technician shortage is real and what you may not realize is how much it's costing your shop every single day: lost production\, delayed repairs\, and missed opportunities.\n\nAre you thinking:\n\n\n	I don't have time to train someone I need a qualified technician now\n	How do you bring in new talent without slowing production?\n	How do I prepare for the next generation of technicians and vehicles?\n	How often do technicians stop work to look up information\, procedures\, or specs?\n	How much time is lost training a green technician?\n\n\nThis isn't just training it's a system built to:\n\n\n	Get green techs productive faster\n	Reduce the need to pull your top tech off the floor to train\n	Improve accuracy and reduce mistakes in real time\n	Increase throughput and overall shop efficiency even with experienced techs\n\n\nWe'll walk through real examples of how this works in a shop environment\, how it supports both new and experienced technicians\, and what this actually looks like in your shop.\n\nMost importantly\, we'll break down what this means for your business faster onboarding\, more consistent repairs\, and a way to build your own technicians instead of waiting to hire them.\n\nIf you're struggling to hire\, tired of production bottlenecks\, or wondering what your shop looks like in 2 3 years if nothing changes this is a conversation you don't want to miss.\n\nPresenter Bio:\n\nRobin Cowie is the Founder and CEO of Skillmaker.ai and the creator of the NAPA Autotech XcceleratoR an AI-powered training platform built in partnership with NAPA Auto Parts to help solve the automotive industry's 642\,000-technician shortage.\n\nThe XcceleratoR combines immersive XR instruction\, job assessment\, and AI-driven smart glasses that give technicians hands-free\, real-time repair guidance in the bay. This compresses what traditionally takes years of training into an accelerated program that quickly makes techs productive while helping experienced techs increase throughput.\n\nBefore founding Skillmaker\, Robin pioneered VR-based electrician training\, reducing an eight-month certification timeline to just 15 days. He also spent five years at Electronic Arts as a Senior Narrative Producer\, contributing to six AAA games including the award-winning Madden NFL: Longshot.\n\nEarlier\, he co-founded Haxan Films and produced The Blair Witch Project\, the highest-grossing independent film of its era\, along with eight additional internationally distributed films.\n\nRobin currently leads a team of XR engineers\, AI developers\, and learning scientists. The NAPA XcceleratoR is the first XR training solution officially recognized by ASE as a pathway toward accelerated certification a major milestone for the industry.\n\nSkillmaker's mission is to make every shop's next great technician possible faster.\n\nMeeting Details:\n\nLunch & Learn / NAPA Xccelerator Program\n\nTime: May 13\, 2026 12:00 PM Pacific Time (US and Canada)\n\nJoin Zoom Meeting: Lunch & Learn\n\nhttps://us02web.zoom.us/j/82449865852\n\nMeeting ID: 824 4986 5852\n\nOne tap mobile:\n\n+12532050468
X-ALT-DESC;FMTTYPE=text/html:<p data-end="177" data-start="60"><span style="font-size:16px\;"><strong data-end="135" data-start="125">Title:</strong><br data-end="138" data-start="135" />\nTechnology Is Changing How We Access Information and How Technicians Are Trained&mdash\;See It for Yourself</span></p>\n\n<p data-end="473" data-start="245" style="color: rgb(0\, 0\, 0)\; font-size: medium\;"><span style="font-size:16px\;"><strong data-end="261" data-start="245">Description:</strong><br data-end="264" data-start="261" />\nIn this upcoming session\, we&rsquo\;re diving into a different approach&mdash\;one that&rsquo\;s changing how shops support their lead technicians\, while at the same time training and developing the next generation of technicians.</span></p>\n\n<p data-end="814" data-start="475" style="color: rgb(0\, 0\, 0)\; font-size: medium\;"><span style="font-size:16px\;">We&rsquo\;ll be taking a look at the NAPA Xccelerator program\, a new platform designed to streamline the repair process by giving technicians the repair information they need without leaving the vehicle. It also takes what traditionally requires years of apprenticeship and compresses it into weeks using immersive training and real-time support.</span></p>\n\n<p data-end="905" data-start="816" style="color: rgb(0\, 0\, 0)\; font-size: medium\;"><span style="font-size:16px\;"><strong>Sneak Preview &ndash\; Watch Before You Attend:</strong><br data-end="862" data-start="859" />\n<a class="decorated-link" data-end="905" data-start="862" href="https://www.youtube.com/watch?v=4reSwYbFwBo" rel="noopener" target="_new">https://www.youtube.com/watch?v=4reSwYbFwBo</a></span><a class="decorated-link" data-end="905" data-start="862" href="https://www.youtube.com/watch?v=4reSwYbFwBo" rel="noopener" target="_new"><span aria-hidden="true" class="ms-0.5 inline-block align-middle leading-none"><svg aria-hidden="true" class="block h-[0.75em] w-[0.75em] stroke-current stroke-[0.75]" data-rtl-flip="" height="20" width="20" xmlns="http://www.w3.org/2000/svg"><use fill="currentColor" href="/cdn/assets/sprites-core-97566a9e.svg#304883"></use></svg></span></a></p>\n\n<p data-end="1175" data-start="907" style="color: rgb(0\, 0\, 0)\; font-size: medium\;"><span style="font-size:16px\;">You&rsquo\;ll see how tools like AI-assisted smart glasses and XR (extended reality) training allow technicians to get step-by-step guidance during repairs\, access torque specs and procedures instantly\, and continue working without leaving the vehicle or breaking their flow.</span></p>\n\n<p data-end="1367" data-start="1177" style="color: rgb(0\, 0\, 0)\; font-size: medium\;"><span style="font-size:16px\;">You already know the technician shortage is real&mdash\;and what you may not realize is how much it&rsquo\;s costing your shop every single day: lost production\, delayed repairs\, and missed opportunities.</span></p>\n\n<p data-end="1386" data-start="1369" style="color: rgb(0\, 0\, 0)\; font-size: medium\;"><span style="font-size:16px\;">Are you thinking:</span></p>\n\n<ul data-end="1736" data-start="1387" style="color: rgb(0\, 0\, 0)\; font-size: medium\;">\n	<li data-end="1459" data-section-id="12l6uyj" data-start="1387"><span style="font-size:16px\;">I don&rsquo\;t have time to train someone&mdash\;I need a qualified technician now</span></li>\n	<li data-end="1522" data-section-id="1q4cdu2" data-start="1460"><span style="font-size:16px\;">How do you bring in new talent without slowing production?</span></li>\n	<li data-end="1596" data-section-id="eheu4l" data-start="1523"><span style="font-size:16px\;">How do I prepare for the next generation of technicians and vehicles?</span></li>\n	<li data-end="1681" data-section-id="k0dmtk" data-start="1597"><span style="font-size:16px\;">How often do technicians stop work to look up information\, procedures\, or specs?</span></li>\n	<li data-end="1736" data-section-id="1vv47x9" data-start="1682"><span style="font-size:16px\;">How much time is lost training a green technician?</span></li>\n</ul>\n\n<p data-end="1786" data-start="1738" style="color: rgb(0\, 0\, 0)\; font-size: medium\;"><span style="font-size:16px\;">This isn&rsquo\;t just training&mdash\;it&rsquo\;s a system built to:</span></p>\n\n<ul data-end="2023" data-start="1787" style="color: rgb(0\, 0\, 0)\; font-size: medium\;">\n	<li data-end="1824" data-section-id="7ojesq" data-start="1787"><span style="font-size:16px\;">Get green techs productive faster</span></li>\n	<li data-end="1889" data-section-id="1qm8628" data-start="1825"><span style="font-size:16px\;">Reduce the need to pull your top tech off the floor to train</span></li>\n	<li data-end="1943" data-section-id="922eqb" data-start="1890"><span style="font-size:16px\;">Improve accuracy and reduce mistakes in real time</span></li>\n	<li data-end="2023" data-section-id="cqzur0" data-start="1944"><span style="font-size:16px\;">Increase throughput and overall shop efficiency&mdash\;even with experienced techs</span></li>\n</ul>\n\n<p data-end="2200" data-start="2025" style="color: rgb(0\, 0\, 0)\; font-size: medium\;"><span style="font-size:16px\;">We&rsquo\;ll walk through real examples of how this works in a shop environment\, how it supports both new and experienced technicians\, and what this actually looks like in your shop.</span></p>\n\n<p data-end="2387" data-start="2202" style="color: rgb(0\, 0\, 0)\; font-size: medium\;"><span style="font-size:16px\;">Most importantly\, we&rsquo\;ll break down what this means for your business&mdash\;faster onboarding\, more consistent repairs\, and a way to build your own technicians instead of waiting to hire them.</span></p>\n\n<p data-end="2569" data-start="2389" style="color: rgb(0\, 0\, 0)\; font-size: medium\;"><span style="font-size:16px\;">If you&rsquo\;re struggling to hire\, tired of production bottlenecks\, or wondering what your shop looks like in 2&ndash\;3 years if nothing changes&mdash\;this is a conversation you don&rsquo\;t want to miss.</span></p>\n\n<p data-end="2840" data-start="2576" style="color: rgb(0\, 0\, 0)\; font-size: medium\;"><span style="font-size:16px\;"><strong data-end="2594" data-start="2576">Presenter Bio:</strong><br data-end="2597" data-start="2594" />\nRobin Cowie is the Founder and CEO of Skillmaker.ai and the creator of the NAPA Autotech XcceleratoR&mdash\;an AI-powered training platform built in partnership with NAPA Auto Parts to help solve the automotive industry&rsquo\;s 642\,000-technician shortage.</span></p>\n\n<p data-end="3184" data-start="2842" style="color: rgb(0\, 0\, 0)\; font-size: medium\;"><span style="font-size:16px\;">The XcceleratoR combines immersive XR instruction\, job assessment\, and AI-driven smart glasses that give technicians hands-free\, real-time repair guidance in the bay. This compresses what traditionally takes years of training into an accelerated program that quickly makes techs productive while helping experienced techs increase throughput.</span></p>\n\n<p data-end="3480" data-start="3186" style="color: rgb(0\, 0\, 0)\; font-size: medium\;"><span style="font-size:16px\;">Before founding Skillmaker\, Robin pioneered VR-based electrician training\, reducing an eight-month certification timeline to just 15 days. He also spent five years at Electronic Arts as a Senior Narrative Producer\, contributing to six AAA games including the award-winning Madden NFL: Longshot.</span></p>\n\n<p data-end="3669" data-start="3482" style="color: rgb(0\, 0\, 0)\; font-size: medium\;"><span style="font-size:16px\;">Earlier\, he co-founded Haxan Films and produced <em data-end="3555" data-start="3530">The Blair Witch Project</em>\, the highest-grossing independent film of its era\, along with eight additional internationally distributed films.</span></p>\n\n<p data-end="3922" data-start="3671" style="color: rgb(0\, 0\, 0)\; font-size: medium\;"><span style="font-size:16px\;">Robin currently leads a team of XR engineers\, AI developers\, and learning scientists. The NAPA XcceleratoR is the first XR training solution officially recognized by ASE as a pathway toward accelerated certification&mdash\;a major milestone for the industry.</span></p>\n\n<p data-end="4007" data-start="3924" style="color: rgb(0\, 0\, 0)\; font-size: medium\;"><span style="font-size:16px\;">Skillmaker&rsquo\;s mission is to make every shop&rsquo\;s next great technician possible&mdash\;faster.</span></p>\n\n<p data-end="4145" data-start="4014" style="color: rgb(0\, 0\, 0)\; font-size: medium\;"><span style="font-size:16px\;"><strong data-end="4034" data-start="4014">Meeting Details:</strong><br data-end="4037" data-start="4034" />\n<strong>Lunch &amp\; Learn </strong>/ NAPA Xccelerator Program<br data-end="4087" data-start="4084" />\nTime: May 13\, 2026 12:00 PM Pacific Time (US and Canada)</span></p>\n\n<p data-end="4207" data-start="4147" style="color: rgb(0\, 0\, 0)\; font-size: medium\;"><span style="font-size:16px\;">Join Zoom Meeting:<strong> Lunch &amp\; Learn</strong><br data-end="4168" data-start="4165" />\n<a class="decorated-link" data-end="4205" data-start="4168" href="https://us02web.zoom.us/j/82449865852" rel="noopener" target="_new">https://us02web.zoom.us/j/82449865852</a></span><a class="decorated-link" data-end="4205" data-start="4168" href="https://us02web.zoom.us/j/82449865852" rel="noopener" target="_new"><span aria-hidden="true" class="ms-0.5 inline-block align-middle leading-none"><svg aria-hidden="true" class="block h-[0.75em] w-[0.75em] stroke-current stroke-[0.75]" data-rtl-flip="" height="20" width="20" xmlns="http://www.w3.org/2000/svg"><use fill="currentColor" href="/cdn/assets/sprites-core-97566a9e.svg#304883"></use></svg></span></a></p>\n\n<p data-end="4236" data-start="4209" style="color: rgb(0\, 0\, 0)\; font-size: medium\;"><span style="font-size:16px\;">Meeting ID: 824 4986 5852</span></p>\n\n<p data-end="4270" data-start="4238" style="color: rgb(0\, 0\, 0)\; font-size: medium\;"><span style="font-size:16px\;">One tap mobile:<br data-end="4256" data-start="4253" />\n+12532050468</span></p>\n
LOCATION:Meeting Details: Lunch & Learn / NAPA Xccelerator Program Time: May 13\, 2026 12:00 PM Pacific Time (US and Canada) Join Zoom Meeting: Lunch & Learn https://us02web.zoom.us/j/82449865852 Meeting ID: 824 4986 5852 One tap mobile: +12532050468
UID:e.9183.5320
SEQUENCE:3
DTSTAMP:20260423T102230Z
URL:https://members.nwautocare.org/events/details/lunch-learn-napa-xcellerator-program-technology-is-changing-5320
END:VEVENT

END:VCALENDAR
