BEGIN:VCALENDAR
VERSION:2.0
PRODID:-//ChamberMaster//Event Calendar 2.0//EN
METHOD:PUBLISH
X-PUBLISHED-TTL:P3D
REFRESH-INTERVAL:P3D
CALSCALE:GREGORIAN
BEGIN:VEVENT
DTSTART:20260520T010000Z
DTEND:20260520T030000Z
X-MICROSOFT-CDO-ALLDAYEVENT:FALSE
SUMMARY:Who Are "They"... and Why Are They Still Running Your Shop? Reno Chapter Meeting.
DESCRIPTION:Join-CEO of Transformers Institute | Multi-Store Automotive Business Owner | Speaker\, Trainer\, and Contributor: Greg Bunch.\n\n\n\nWho Are "They"   and Why Are They Still Running Your Shop? \n\n\n\nMost shop owners are not stuck because they lack effort.\n\nThey are stuck because they are following rules they never questioned.\n\nRules from old bosses\, coaches\, competitors\, and an industry that rewards doing what everyone else is doing."This is how it's done." That exact thinking that built Blockbuster. It also put them out of business.\n\n\n\nIn This Session:\n\n\n\n  Expose the beliefs that are quietly capping your growth\n\n  Identify the "they said" rules costing you time\, profit\, and freedom\n\n  See why most shops are misaligned with what customers value\n\n  Understand how experience\, speed\, and communication now drive revenue\n\n  Pinpoint where your current operating system is breaking\n\n\n\nWhat You Will See Clearly:\n\n\n\n  The industry has already shifted\n\n  Most shops are still operating as if it hasn't\n\n  Customers are making decisions differently from what you think\n\n  The gap between top shops and everyone else is widening\n\n\n\nIf This Hits\, You Are Exactly Who Should Be In The Room!\n\n\n\n  You feel maxed out but know there is more\n\n  You are tired of working harder without breaking through\n\n  You know some of what you have been taught no longer makes sense\n\n  You are ready to think differently and act on it The opportunity in this industry is massive.\n\n\n\nMost will miss it because they keep following "they."\n\nA small percentage will question it\, rebuild how they think\, and take it.\n\nThat is the difference.\n\n\n\n\n\n\n\n\n\n\n\n\n\n\n\nThis is a great opportunity to stay informed\, ask real-world questions\, and connect with fellow Reno Sparks shop owners as we move into another strong year of chapter meetings.\n\n\n\nBIO:\n\nGreg Bunch\, began his journey in the automotive industry as a general service technician at a small Volkswagen shop in Southern California. What started as a hobby working on air-cooled Volkswagens transformed into a career spanning over 30 years. Over the decades\, Greg earned his ASE Master Certification\, served as a service advisor\, store manager\, shop foreman\, and eventually became a successful shop owner. Today\, Greg owns and operates six thriving auto repair locations across Colorado.\n\nIn addition to his achievements as a multi-store owner\, Greg is the founder and CEO of Transformers Institute\, an industry-leading coaching\, consulting\, and training company dedicated to transforming the automotive repair industry. Transformers Institute's mission is to help shop owners become better business leaders and empower their employees to deliver superior service to customers\, working to eliminate the "black eye" often associated with the industry.\n\nA sought-after speaker and trainer\, Greg regularly presents at industry events on topics such as sales\, leadership\, personal development\, business management\, marketing\, technology and shop operations. His talks blend humor\, real-life stories\, actionable insights\, and inspiration\, leaving audiences motivated to improve both their business and personal lives.\n\nGreg's expertise extends beyond the stage. As a contributing editor for Ratchet & Wrench magazine\, he provides valuable insights read by thousands of auto repair shop owners nationwide\, further solidifying his role as a thought leader in the industry.\n\nWith a passion for education\, innovation\, and leadership\, Greg's work continues to inspire and drive positive changes within the automotive industry\, helping the aftermarket automotive repair industry reach new levels of success.\n\nAttend in person or via Zoom   everyone is welcome!\n\n\n\nMeeting Details:\n\n6:00 PM   Social Hour & Dinner (Buy your own food/beverage)\n\n6:15 PM   Presentation Begins\n\n\n\nJoin Zoom Meeting:\n\nhttps://us02web.zoom.us/j/88372330125\n\n\n\nMeeting ID: 883 7233 0125\n\n---\n\nOne tap mobile\n\n+12532158782
X-ALT-DESC;FMTTYPE=text/html:<h3><span style="font-family:arial\;"><span style="font-size:20px\;"><strong style="font-size: 14px\;"><span new="" times="">Join-<em>CEO of Transformers Institute | Multi-Store Automotive Business Owner | Speaker\, Trainer\, and Contributor:&nbsp\;</em></span></strong><strong style="font-size: 16px\;">Greg Bunch.</strong></span><br />\n<br />\n<span style="font-size:16px\;"><span style="color:#0000FF\;"><u><strong>Who Are &ldquo\;They&rdquo\; &hellip\; and Why Are They Still Running Your Shop?</strong>&nbsp\;</u></span><br />\n<br />\n<span new="" times="">Most shop owners are <strong>not</strong> <strong>stuck </strong>because they<strong> lack effort.</strong></span><br />\n<span new="" times="">They are stuck because they are following <strong>rules</strong> they <strong>never questioned.</strong></span><br />\n<span new="" times=""><strong>Rules</strong> from <strong>old bosses</strong>\, <strong>coaches</strong>\, <strong>competitors</strong>\, and an <strong>industry </strong>that rewards doing what everyone else is doing.<strong>&ldquo\;This is how it&rsquo\;s done.&rdquo\;&nbsp\;</strong></span><span new="" times="">That exact thinking that <strong>built</strong> Blockbuster. It also put them <strong>out of business.</strong></span><br />\n<br />\n<strong><span new="" times="">In This Session:</span></strong><br />\n<br />\n<span new="" times="">&bull\; <strong>Expose</strong> the beliefs that are <strong>quietly capping</strong> your growth<br />\n&bull\; Identify the <strong>&ldquo\;they said&rdquo\;</strong> rules costing you time\, profit\, and <strong>freedom</strong><br />\n&bull\; See why most shops are <strong>misaligned</strong> with what customers <strong>value</strong><br />\n&bull\;<strong> Understand</strong> how <strong>experience\, speed\, and communication</strong> now drive revenue<br />\n&bull\; Pinpoint where your current operating system is breaking</span><br />\n<br />\n<strong><span new="" times="">What You Will See Clearly:</span></strong><br />\n<br />\n<span new="" times="">&bull\; The <strong>industry</strong> has already <strong>shifted</strong><br />\n&bull\; Most shops are still operating as if it hasn&rsquo\;t<br />\n&bull\; <strong>Customers </strong>are <strong>making decisions </strong>differently from what you think<br />\n&bull\; The gap between top shops and everyone else is widening</span><br />\n<br />\n<span style="color:#0000FF\;"><strong><span new="" times="">If This Hits\, You Are Exactly Who Should Be In The Room!</span></strong></span><br />\n<br />\n<span new="" times="">&bull\; You <strong>feel maxed out</strong> but know there is more<br />\n&bull\; You are tired of <strong>working harder without breaking through</strong><br />\n&bull\; You know some of what you have been taught no longer makes sense<br />\n&bull\; You are ready to think differently and <strong>act on it The opportunity in this industry is massive.</strong></span><br />\n<br />\n<span new="" times="">Most will miss it because they keep following &ldquo\;they.&rdquo\;</span><br />\n<span new="" times="">A small percentage will question it\, rebuild how they think\, and take it.</span><br />\n<span new="" times="">That is the difference.</span></span></span></h3>\n\n<article class="text-token-text-primary w-full focus:outline-none [--shadow-height:45px] has-data-writing-block:pointer-events-none has-data-writing-block:-mt-(--shadow-height) has-data-writing-block:pt-(--shadow-height) [&amp\;:has([data-writing-block])&gt\;*]:pointer-events-auto scroll-mt-[calc(var(--header-height)+min(200px\,max(70px\,20svh)))]" data-scroll-anchor="false" data-testid="conversation-turn-14" data-turn="assistant" data-turn-id="782559d7-7274-452f-a6bb-3024f8ef4030" dir="auto" tabindex="-1">\n<div class="text-base my-auto mx-auto [--thread-content-margin:--spacing(4)] @w-sm/main:[--thread-content-margin:--spacing(6)] @w-lg/main:[--thread-content-margin:--spacing(16)] px-(--thread-content-margin)">\n<div class="[--thread-content-max-width:40rem] @w-lg/main:[--thread-content-max-width:48rem] mx-auto max-w-(--thread-content-max-width) flex-1 group/turn-messages focus-visible:outline-hidden relative flex w-full min-w-0 flex-col agent-turn" tabindex="-1">\n<div class="flex max-w-full flex-col grow">\n<div class="min-h-8 text-message relative flex w-full flex-col items-end gap-2 text-start break-words whitespace-normal [.text-message+&amp\;]:mt-1" data-message-author-role="assistant" data-message-id="1e76fc08-78c3-4568-98d3-0284b8ec72c2" data-message-model-slug="gpt-5-2" dir="auto">\n<div class="flex w-full flex-col gap-1 empty:hidden first:pt-[1px]">\n<div class="markdown prose dark:prose-invert w-full wrap-break-word light markdown-new-styling">\n<article class="text-token-text-primary w-full focus:outline-none [--shadow-height:45px] has-data-writing-block:pointer-events-none has-data-writing-block:-mt-(--shadow-height) has-data-writing-block:pt-(--shadow-height) [&amp\;:has([data-writing-block])&gt\;*]:pointer-events-auto scroll-mt-[calc(var(--header-height)+min(200px\,max(70px\,20svh)))]" data-scroll-anchor="false" data-testid="conversation-turn-14" data-turn="assistant" data-turn-id="782559d7-7274-452f-a6bb-3024f8ef4030" dir="auto" tabindex="-1">\n<div class="text-base my-auto mx-auto [--thread-content-margin:--spacing(4)] @w-sm/main:[--thread-content-margin:--spacing(6)] @w-lg/main:[--thread-content-margin:--spacing(16)] px-(--thread-content-margin)">\n<div class="[--thread-content-max-width:40rem] @w-lg/main:[--thread-content-max-width:48rem] mx-auto max-w-(--thread-content-max-width) flex-1 group/turn-messages focus-visible:outline-hidden relative flex w-full min-w-0 flex-col agent-turn" tabindex="-1">\n<div class="flex max-w-full flex-col grow">\n<div class="min-h-8 text-message relative flex w-full flex-col items-end gap-2 text-start break-words whitespace-normal [.text-message+&amp\;]:mt-1" data-message-author-role="assistant" data-message-id="1e76fc08-78c3-4568-98d3-0284b8ec72c2" data-message-model-slug="gpt-5-2" dir="auto">\n<div class="flex w-full flex-col gap-1 empty:hidden first:pt-[1px]">\n<div class="markdown prose dark:prose-invert w-full wrap-break-word light markdown-new-styling">\n<p data-end="1403" data-start="1227"><span style="font-family:arial\;"><span style="font-size:16px\;"><strong>This is a great opportunity to stay informed\, ask real-world questions\, and connect with fellow Reno&ndash\;Sparks shop owners as we move into another strong year of chapter meetings.</strong><br />\n<br />\n<span new="" times=""><strong>BIO:<br />\nGreg Bunch\,</strong>&nbsp\;began his journey in the automotive industry as a general service technician at a small Volkswagen shop in Southern California. What started as a hobby working on air-cooled Volkswagens transformed into a career spanning over 30 years. Over the decades\, Greg earned his ASE Master Certification\, served as a service advisor\, store manager\, shop foreman\, and eventually became a successful shop owner. Today\, Greg owns and operates six thriving auto repair locations across Colorado.</span><br />\n<span new="" times="">In addition to his achievements as a multi-store owner\, Greg is the founder and CEO of Transformers Institute\, an industry-leading coaching\, consulting\, and training company dedicated to transforming the automotive repair industry. Transformers Institute&rsquo\;s mission is to help shop owners become better business leaders and empower their employees to deliver superior service to customers\, working to eliminate the &quot\;black eye&quot\; often associated with the industry.</span><br />\n<span new="" times="">A sought-after speaker and trainer\, Greg regularly presents at industry events on topics such as sales\, leadership\, personal development\, business management\, marketing\, technology and shop operations. His talks blend humor\, real-life stories\, actionable insights\, and inspiration\, leaving audiences motivated to improve both their business and personal lives.</span><br />\n<span new="" times=""><strong>Greg&rsquo\;s expertise extends beyond the stage.</strong>&nbsp\;As a contributing&nbsp\;<strong>editor for&nbsp\;<em>Ratchet &amp\; Wrench</em>&nbsp\;magazine\,</strong>&nbsp\;he provides valuable insights read by thousands of auto repair shop owners nationwide\, further solidifying his role as a thought leader in the industry.</span><br />\n<span new="" times="">With a passion for education\, innovation\, and leadership\, Greg&rsquo\;s work continues to inspire and drive positive changes within the automotive industry\, helping the aftermarket automotive repair industry reach new levels of success.</span></span></span></p>\n\n<h3 data-end="1069" data-start="1046"><span style="font-family:arial\;"><span style="font-size:16px\;"><strong data-end="1225" data-start="1170">Attend in person or via Zoom &mdash\; everyone is welcome!</strong><br />\n<br />\n<strong>Meeting Details:</strong><br />\n<strong data-end="1084" data-start="1073">6:00 PM</strong>&nbsp\;&ndash\; Social Hour &amp\; Dinner&nbsp\;</span></span><span style="font-size: 14px\;"><span style="font-family: Arial\, sans-serif\; color: rgb(34\, 34\, 34)\; font-variant-numeric: normal\; font-variant-east-asian: normal\; font-variant-alternates: normal\; vertical-align: baseline\; white-space-collapse: preserve\;">(Buy your own food/beverage)</span></span><br data-end="1110" data-start="1107" />\n<span style="font-family:arial\;"><span style="font-size:16px\;"><strong data-end="1124" data-start="1113">6:15&nbsp\;PM</strong>&nbsp\;&ndash\; Presentation Begins<br />\n<br />\n<strong>Join Zoom Meeting:</strong><br />\n<a href="https://us02web.zoom.us/j/88372330125">https://us02web.zoom.us/j/88372330125</a><br />\n<br />\nMeeting ID: 883 7233 0125<br />\n---<br />\nOne tap mobile<br />\n+12532158782</span></span></h3>\n\n<p data-end="1403" data-start="1227"><br />\n<span style="font-size: 14px\;">&nbsp\;</span></p>\n</div>\n</div>\n</div>\n</div>\n</div>\n</div>\n</article>\n</div>\n</div>\n</div>\n</div>\n</div>\n</div>\n</article>\n
LOCATION:Round Table Pizza (May19th) 115 E Moana Ln\, Reno\, NV 89502 (Buy your own food/beverage)
UID:e.9183.5321
SEQUENCE:3
DTSTAMP:20260425T023632Z
URL:https://members.nwautocare.org/events/details/who-are-they-and-why-are-they-still-running-your-shop-reno-chapter-meeting-5321
END:VEVENT

END:VCALENDAR
